BEGIN:VCALENDAR
VERSION:2.0
PRODID:-//Brazilian Jiu-Jitsu Organization India - ECPv6.15.13.1//NONSGML v1.0//EN
CALSCALE:GREGORIAN
METHOD:PUBLISH
X-WR-CALNAME:Brazilian Jiu-Jitsu Organization India
X-ORIGINAL-URL:https://bjjtrainingindia.com
X-WR-CALDESC:Events for Brazilian Jiu-Jitsu Organization India
REFRESH-INTERVAL;VALUE=DURATION:PT1H
X-Robots-Tag:noindex
X-PUBLISHED-TTL:PT1H
BEGIN:VTIMEZONE
TZID:Asia/Kolkata
BEGIN:STANDARD
TZOFFSETFROM:+0530
TZOFFSETTO:+0530
TZNAME:IST
DTSTART:20240101T000000
END:STANDARD
END:VTIMEZONE
BEGIN:VEVENT
DTSTART;TZID=Asia/Kolkata:20251223T150000
DTEND;TZID=Asia/Kolkata:20251224T200000
DTSTAMP:20260425T002107
CREATED:20251125T174824Z
LAST-MODIFIED:20251125T174824Z
UID:937-1766502000-1766606400@bjjtrainingindia.com
SUMMARY:International Bjj training camp  with Miko Hytönen
DESCRIPTION:Organized by – BJJ Jodhpur head quarters of Brazilian Jiu-Jutsu Organization India
URL:https://bjjtrainingindia.com/event/international-bjj-training-camp-with-miko-hytonen/
LOCATION:MMA ARUNA’S KUDO ACADEMY\, MMA ARUNA'S KUDO ACADEMY Jodhpur 342001 \, Rajasthan\, Jodhpur\, Rajasthan\, 342001\, India
ATTACH;FMTTYPE=image/jpeg:https://bjjtrainingindia.com/wp-content/uploads/2025/11/aruna.jpg
END:VEVENT
BEGIN:VEVENT
DTSTART;TZID=Asia/Kolkata:20251220T090000
DTEND;TZID=Asia/Kolkata:20251222T140000
DTSTAMP:20260425T002107
CREATED:20251122T172148Z
LAST-MODIFIED:20251122T173845Z
UID:913-1766221200-1766412000@bjjtrainingindia.com
SUMMARY:1st Miko Hytonen International BJJ Seminar Jodhpur 2025
DESCRIPTION:Organized by raj kudo academy BJJ Jodhpur\, Official Dojo Brazilian Jiu-Jitsu Organization India
URL:https://bjjtrainingindia.com/event/1st-miko-hytonen-international-bjj-seminar-jodhpur-2025/
LOCATION:Raj Kudo Academy\, Tiwari tower\, Pal Rd\, near passport office\, above icici bank\, Heavy Industrial Area Phase II\, Basni\, Jodhpur\, Rajasthan 342001\, Jodhpur\, Rajasthan\, 342001\, India
ATTACH;FMTTYPE=image/jpeg:https://bjjtrainingindia.com/wp-content/uploads/2025/11/raj-.jpg
END:VEVENT
BEGIN:VEVENT
DTSTART;TZID=Asia/Kolkata:20251205T150000
DTEND;TZID=Asia/Kolkata:20251207T200000
DTSTAMP:20260425T002107
CREATED:20251122T103245Z
LAST-MODIFIED:20251122T103727Z
UID:885-1764946800-1765137600@bjjtrainingindia.com
SUMMARY:1st Miko Hytonen International BJJ Seminar Surat 2025
DESCRIPTION:Organized by – BJOI SURAT\, Official dojo of Brazilian Jiu-Jutsu Organization India \n 
URL:https://bjjtrainingindia.com/event/1st-miko-hytonen-international-bjj-seminar-surat-2025/
LOCATION:Athletica fitness\, Athletica fitness\, Opp Lourdes Convent School\, Surat - 395001\, Surat\, Gujarat\, 395001\, India
ATTACH;FMTTYPE=image/png:https://bjjtrainingindia.com/wp-content/uploads/2025/11/Untitled.png
END:VEVENT
BEGIN:VEVENT
DTSTART;TZID=Asia/Kolkata:20251201T093000
DTEND;TZID=Asia/Kolkata:20251203T210000
DTSTAMP:20260425T002107
CREATED:20251122T100419Z
LAST-MODIFIED:20251122T102457Z
UID:864-1764581400-1764795600@bjjtrainingindia.com
SUMMARY:1st Miko Hytönen International BJJ Seminar Pune\, Maharashtra 2025
DESCRIPTION:Organized by – BJOI PUNE\, Official dojo of Brazilian Jiu-Jutsu Organization India
URL:https://bjjtrainingindia.com/event/1st-miko-hytonen-international-bjj-seminar-pune-maharashtra-2025/
LOCATION:Sankalp Vally School\, Sankalp Vally School\, Gat No- 306/A\, Opp Red Earth Society\, Lavasa Rd A/P-Urawade\, Tal.Mulshi Poud Road\, Pirangut\, Pune\, Maharashtra 412115\, Pune\, Maharashtra\, 412115\, India
ATTACH;FMTTYPE=image/jpeg:https://bjjtrainingindia.com/wp-content/uploads/2025/11/WhatsApp-Image-2025-11-19-at-13.40.36_e8f6e324-scaled.jpg
END:VEVENT
BEGIN:VEVENT
DTSTART;TZID=Asia/Kolkata:20251128T180000
DTEND;TZID=Asia/Kolkata:20251128T200000
DTSTAMP:20260425T002107
CREATED:20251122T110720Z
LAST-MODIFIED:20251122T174256Z
UID:892-1764352800-1764360000@bjjtrainingindia.com
SUMMARY:1st Miko Hytönen International BJJ Seminar Mumbai\, Maharashtra 2025
DESCRIPTION:Organized by – BJOI Mumbai\, Official dojo of Brazilian Jiu-Jutsu Organization India
URL:https://bjjtrainingindia.com/event/1st-miko-hytonen-international-bjj-seminar-pune-maharashtra-2025-2/
LOCATION:Mehul Vora Academy\, MVA\, Sohini Apartment\, 1st FloorStation Road \, Vile Parle(W)\, Mumbai\, Mumbai\, Maharashtra\, 400056\, India
ATTACH;FMTTYPE=image/jpeg:https://bjjtrainingindia.com/wp-content/uploads/2025/11/jatin-scaled.jpg
END:VEVENT
BEGIN:VEVENT
DTSTART;TZID=Asia/Kolkata:20251127T113000
DTEND;TZID=Asia/Kolkata:20251127T150000
DTSTAMP:20260425T002107
CREATED:20251122T140632Z
LAST-MODIFIED:20251122T174212Z
UID:902-1764243000-1764255600@bjjtrainingindia.com
SUMMARY:1st Miko Hytonen International BJJ Seminar Mumbai 2025
DESCRIPTION:Organized by – BJJ Mumbai\, Official dojo of Brazilian Jiu-Jutsu Organization India
URL:https://bjjtrainingindia.com/event/1st-miko-hytonen-international-bjj-seminar-mumbai-2025/
LOCATION:Fitbee\, Fitbee\, 301 Sai Heritage\,Above Axis Bank\,Tilak Road\, Ghatkopar East\, Mumbai\, Mumbai\, Maharashtra\, 400077\, India
ATTACH;FMTTYPE=image/jpeg:https://bjjtrainingindia.com/wp-content/uploads/2025/11/jasm.jpg
END:VEVENT
BEGIN:VEVENT
DTSTART;TZID=Asia/Kolkata:20251124T150000
DTEND;TZID=Asia/Kolkata:20251127T233000
DTSTAMP:20260425T002107
CREATED:20251122T102052Z
LAST-MODIFIED:20251122T102058Z
UID:876-1763996400-1764286200@bjjtrainingindia.com
SUMMARY:1st Miko Hytonen International BJJ Seminar Shimoga 2025
DESCRIPTION:Organized by – BJJ Shimoga\, Official dojo of Brazilian Jiu-Jutsu Organization India
URL:https://bjjtrainingindia.com/event/1st-miko-hytonen-international-bjj-seminar-shimoga-2025/
LOCATION:Nehru Stadium\, Shimoga\, Shimoga Sports Complex\, Nehru Stadium Road\, Shimoga\, Karnataka\, 577201\, India
ATTACH;FMTTYPE=image/jpeg:https://bjjtrainingindia.com/wp-content/uploads/2025/11/IMG_2499.jpg
END:VEVENT
END:VCALENDAR